BEGIN:VCALENDAR
VERSION:2.0
PRODID:-//ChamberMaster//Event Calendar 2.0//EN
METHOD:PUBLISH
X-PUBLISHED-TTL:P1H
REFRESH-INTERVAL:P1H
CALSCALE:GREGORIAN
BEGIN:VTIMEZONE
TZID:America/Denver
BEGIN:DAYLIGHT
RRULE:FREQ=YEARLY;BYMONTH=3;BYDAY=2SU
DTSTART:20070101T000000
TZOFFSETFROM:-0700
TZOFFSETTO:-0600
TZNAME:Mountain Daylight Time
END:DAYLIGHT
BEGIN:STANDARD
RRULE:FREQ=YEARLY;BYMONTH=11;BYDAY=1SU
DTSTART:20070101T000000
TZOFFSETFROM:-0600
TZOFFSETTO:-0700
TZNAME:Mountain Standard Time
END:STANDARD
END:VTIMEZONE
BEGIN:VEVENT
DTSTART;TZID=America/Denver:20260507T160000
DTEND;TZID=America/Denver:20260507T190000
X-MICROSOFT-CDO-ALLDAYEVENT:FALSE
SUMMARY:CiviCO from Omni Purpose Hour: Leading in Times of Political Polarization
DESCRIPTION:Please note this event is in Colorado Springs.Purpose Hour is a monthly gathering where bold ideas meet community insight to spark inspiring conversations and civic action for Colorado's future.Leading in Times of Political PolarizationWe are in a time of challenging polarization in our country. Civic leaders\, business professionals\, and citizens alike find it difficult to make progress on initiatives because they are navigating divisive semantics and intense ideologies. The social fabric in our communities seems to be tearing. We need to ask ourselves: How can we disagree better and find a way forward together? Join us for a timely discussion with Dr. Katy Anthes on strategies to increase collaboration and decrease polarization. Keeping our systems in a place of productive\, healthy conflict is an important ingredient for progress across all sectors. Katy Anthes\, Ph.D.\, is the former Commissioner at the Colorado Department of Education\, and currently serves as the Director of the FORWARD Initiative at the Public Business & Education Coalition (PEBC). Dr. Anthes also received the 2024 Colorado Governor's Citizenship Medal for Public and Community Service and is a national expert on polarization. \nSchedule:4-4:45pm: Connection and conversation4:45-6pm: Speaker program6-7pm: Connection and conversationLight appetizers and beverages available throughout the evening. Space is limited - reserve your spot now!
X-ALT-DESC;FMTTYPE=text/html:<!DOCTYPE html><html><head><title></title></head><body aria-disabled="false"><p><strong fr-original-style="" style="font-weight: 700\;"><span style="color: rgb(184\, 49\, 47)\;">Please note this event is in Colorado Springs</span></strong><em><strong fr-original-style="" style="font-weight: 700\;"><span style="color: rgb(184\, 49\, 47)\;">.</span></strong></em></p><hr fr-original-style="" style="clear: both\; user-select: none\; break-after: page\;"><p><span style="font-size: 14px\; font-family: Arial\, Helvetica\, sans-serif\;"><span style="color: rgb(0\, 0\, 0)\; font-style: normal\; font-variant-ligatures: normal\; font-variant-caps: normal\; font-weight: 400\; letter-spacing: normal\; orphans: 2\; text-align: center\; text-indent: 0px\; text-transform: none\; widows: 2\; word-spacing: 0px\; -webkit-text-stroke-width: 0px\; white-space: normal\; background-color: rgb(255\, 255\, 255)\; text-decoration-thickness: initial\; text-decoration-style: initial\; text-decoration-color: initial\; float: none\; display: inline !important\;"><em>Purpose Hour is a monthly gathering where bold ideas meet community insight to spark inspiring conversations and civic action for Colorado&rsquo\;s future.</em></span></span></p><p><span style="font-size: 14px\;"><span style="font-family: Arial\,Helvetica\,sans-serif\;"><strong fr-original-style="" style="font-weight: 700\;">Leading in Times of Political Polarization</strong></span></span></p><p><span style="font-size: 14px\;"><span style="font-family: Arial\,Helvetica\,sans-serif\;"><span style="color: rgb(0\, 0\, 0)\;">We are in a time of challenging polarization in our country. Civic leaders\, business professionals\, and citizens alike find it difficult to make progress on initiatives because they are navigating divisive semantics and intense ideologies. The social fabric in our communities seems to be tearing.&nbsp\;</span></span></span></p><p><span style="font-size: 14px\;"><span style="font-family: Arial\,Helvetica\,sans-serif\;"><span style="color: rgb(0\, 0\, 0)\;">We need to ask ourselves: How can we disagree better and find a way forward <em>togethe</em><em>r</em>?&nbsp\;</span></span></span></p><p><span style="font-size: 14px\;"><span style="font-family: Arial\,Helvetica\,sans-serif\;"><span style="color: rgb(0\, 0\, 0)\;"><span style="color: rgb(0\, 0\, 0)\; font-family: Arial\, Helvetica\, sans-serif\; font-size: 14px\; font-style: normal\; font-variant-ligatures: normal\; font-variant-caps: normal\; font-weight: 400\; letter-spacing: normal\; orphans: 2\; text-align: start\; text-indent: 0px\; text-transform: none\; widows: 2\; word-spacing: 0px\; -webkit-text-stroke-width: 0px\; white-space: normal\; text-decoration-thickness: initial\; text-decoration-style: initial\; text-decoration-color: initial\; display: inline !important\; float: none\;">Join us for a timely discussion with Dr. Katy Anthes on strategies to increase collaboration and decrease polarization. Keeping our systems in a place of productive\, healthy conflict is an important ingredient for progress across all sectors.</span>&nbsp\;</span></span></span></p><p><a fr-original-style="" href="https://www.linkedin.com/in/katy-anthes-1b966b5/" rel="noopener noreferrer" style="user-select: auto\;" target="_blank"><span style="font-size: 14px\;"><span style="font-family: Arial\,Helvetica\,sans-serif\;"><span style="color: rgb(0\, 0\, 0)\;"><span style="font-style: normal\; font-variant-ligatures: normal\; font-variant-caps: normal\; font-weight: 400\; letter-spacing: normal\; orphans: 2\; text-align: start\; text-indent: 0px\; text-transform: none\; widows: 2\; word-spacing: 0px\; -webkit-text-stroke-width: 0px\; white-space: normal\; background-color: rgb(255\, 255\, 255)\; text-decoration-thickness: initial\; text-decoration-style: initial\; text-decoration-color: initial\; float: none\; display: inline !important\;">Katy Anthes\, Ph.D.</span></span></span></span></a><span style="font-size: 14px\;"><span style="font-family: Arial\,Helvetica\,sans-serif\;"><span style="color: rgb(0\, 0\, 0)\;"><span style="font-style: normal\; font-variant-ligatures: normal\; font-variant-caps: normal\; font-weight: 400\; letter-spacing: normal\; orphans: 2\; text-align: start\; text-indent: 0px\; text-transform: none\; widows: 2\; word-spacing: 0px\; -webkit-text-stroke-width: 0px\; white-space: normal\; background-color: rgb(255\, 255\, 255)\; text-decoration-thickness: initial\; text-decoration-style: initial\; text-decoration-color: initial\; float: none\; display: inline !important\;">\, is the former Commissioner at the Colorado Department of Education\, and currently serves as the Director of the FORWARD Initiative at the Public Business &amp\; Education Coalition (PEBC). Dr. Anthes also received the 2024 Colorado Governor&#39\;s Citizenship Medal for Public and Community Service and is a national expert on polarization.&nbsp\;</span><br></span></span></span></p><p><span style="font-size: 14px\;"><span style="font-family: Arial\,Helvetica\,sans-serif\;"><span style="color: rgb(0\, 0\, 0)\;"><strong fr-original-style="" style="font-weight: 700\;">Schedule:</strong></span></span></span></p><ul fr-original-style="" style="list-style-position: inside\;"><li style="font-family: Arial\, Helvetica\, sans-serif\; font-size: 14px\;"><em><span style="color: rgb(0\, 0\, 0)\; font-style: normal\; font-variant-ligatures: normal\; font-variant-caps: normal\; font-weight: 400\; letter-spacing: normal\; orphans: 2\; text-align: center\; text-indent: 0px\; text-transform: none\; widows: 2\; word-spacing: 0px\; -webkit-text-stroke-width: 0px\; white-space: normal\; background-color: rgb(255\, 255\, 255)\; text-decoration-thickness: initial\; text-decoration-style: initial\; text-decoration-color: initial\; float: none\; display: inline !important\;">4-4:45pm: Connection and conversation</span></em></li><li style="font-family: Arial\, Helvetica\, sans-serif\; font-size: 14px\;"><em><span style="color: rgb(0\, 0\, 0)\; font-style: normal\; font-variant-ligatures: normal\; font-variant-caps: normal\; font-weight: 400\; letter-spacing: normal\; orphans: 2\; text-align: center\; text-indent: 0px\; text-transform: none\; widows: 2\; word-spacing: 0px\; -webkit-text-stroke-width: 0px\; white-space: normal\; background-color: rgb(255\, 255\, 255)\; text-decoration-thickness: initial\; text-decoration-style: initial\; text-decoration-color: initial\; float: none\; display: inline !important\;">4:45-6pm: Speaker program</span></em></li><li style="font-family: Arial\, Helvetica\, sans-serif\; font-size: 14px\;"><em><span style="color: rgb(0\, 0\, 0)\; font-style: normal\; font-variant-ligatures: normal\; font-variant-caps: normal\; font-weight: 400\; letter-spacing: normal\; orphans: 2\; text-align: center\; text-indent: 0px\; text-transform: none\; widows: 2\; word-spacing: 0px\; -webkit-text-stroke-width: 0px\; white-space: normal\; background-color: rgb(255\, 255\, 255)\; text-decoration-thickness: initial\; text-decoration-style: initial\; text-decoration-color: initial\; float: none\; display: inline !important\;">6-7pm: Connection and conversation</span></em></li></ul><p><em><span style="font-size: 14px\; font-family: Arial\, Helvetica\, sans-serif\;"><span style="color: rgb(0\, 0\, 0)\; font-style: normal\; font-variant-ligatures: normal\; font-variant-caps: normal\; font-weight: 400\; letter-spacing: normal\; orphans: 2\; text-align: center\; text-indent: 0px\; text-transform: none\; widows: 2\; word-spacing: 0px\; -webkit-text-stroke-width: 0px\; white-space: normal\; background-color: rgb(255\, 255\, 255)\; text-decoration-thickness: initial\; text-decoration-style: initial\; text-decoration-color: initial\; float: none\; display: inline !important\;">Light appetizers and beverages available throughout the evening.&nbsp\;</span></span></em></p><p><em><span style="font-size: 14px\; font-family: Arial\, Helvetica\, sans-serif\;"><span style="color: rgb(0\, 0\, 0)\; font-style: normal\; font-variant-ligatures: normal\; font-variant-caps: normal\; font-weight: 400\; letter-spacing: normal\; orphans: 2\; text-align: center\; text-indent: 0px\; text-transform: none\; widows: 2\; word-spacing: 0px\; -webkit-text-stroke-width: 0px\; white-space: normal\; background-color: rgb(255\, 255\, 255)\; text-decoration-thickness: initial\; text-decoration-style: initial\; text-decoration-color: initial\; float: none\; display: inline !important\;">Space is limited - reserve your spot now!</span></span></em></p></body></html>
LOCATION:11550 Ent Parkway Colorado Springs CO 80921
UID:e.558.1430900
SEQUENCE:3
DTSTAMP:20260425T192855Z
URL:https://civico.growthzoneapp.com/eventcalendar/Details/civico-from-omni-purpose-hour-leading-in-times-of-political-polarization-1693378?sourceTypeId=Hub
END:VEVENT
END:VCALENDAR
